BEGIN:VCALENDAR
VERSION:2.0
PRODID:-//Pfarre St. Hemma - ECPv4.9.7//NONSGML v1.0//EN
CALSCALE:GREGORIAN
METHOD:PUBLISH
X-WR-CALNAME:Pfarre St. Hemma
X-ORIGINAL-URL:https://www.sankthemma.at
X-WR-CALDESC:Veranstaltungen im Pfarre St. Hemma
BEGIN:VTIMEZONE
TZID:"Europe/Berlin"
BEGIN:DAYLIGHT
TZOFFSETFROM:+0100
TZOFFSETTO:+0200
TZNAME:CEST
DTSTART:20250330T010000
END:DAYLIGHT
BEGIN:STANDARD
TZOFFSETFROM:+0200
TZOFFSETTO:+0100
TZNAME:CET
DTSTART:20251026T010000
END:STANDARD
END:VTIMEZONE
BEGIN:VEVENT
DTSTART;TZID="Europe/Berlin":20251016T183000
DTEND;TZID="Europe/Berlin":20251016T190000
DTSTAMP:20260420T154207
CREATED:20251003T165158Z
LAST-MODIFIED:20251003T165158Z
UID:12462-1760639400-1760641200@www.sankthemma.at
SUMMARY:Wortgottesdienst mit Kommunionfeier
DESCRIPTION:
URL:https://www.sankthemma.at/events/wortgottesdienst-mit-kommunionfeier-273/
CATEGORIES:Gottesdienst
END:VEVENT
END:VCALENDAR