BEGIN:VCALENDAR
VERSION:2.0
PRODID:-//Pfarre St. Hemma - ECPv4.9.7//NONSGML v1.0//EN
CALSCALE:GREGORIAN
METHOD:PUBLISH
X-WR-CALNAME:Pfarre St. Hemma
X-ORIGINAL-URL:https://www.sankthemma.at
X-WR-CALDESC:Veranstaltungen im Pfarre St. Hemma
BEGIN:VTIMEZONE
TZID:"Europe/Berlin"
BEGIN:DAYLIGHT
TZOFFSETFROM:+0100
TZOFFSETTO:+0200
TZNAME:CEST
DTSTART:20250330T010000
END:DAYLIGHT
BEGIN:STANDARD
TZOFFSETFROM:+0200
TZOFFSETTO:+0100
TZNAME:CET
DTSTART:20251026T010000
END:STANDARD
END:VTIMEZONE
BEGIN:VEVENT
DTSTART;TZID="Europe/Berlin":20250713T093000
DTEND;TZID="Europe/Berlin":20250713T103000
DTSTAMP:20260421T183349
CREATED:20250701T162520Z
LAST-MODIFIED:20250701T162520Z
UID:12197-1752399000-1752402600@www.sankthemma.at
SUMMARY:Wortgottesdienst mit Kommunionfeier
DESCRIPTION:Heute Hemmakollekte! \n
URL:https://www.sankthemma.at/events/wortgottesdienst-mit-kommunionfeier-261/
CATEGORIES:Gottesdienst
END:VEVENT
END:VCALENDAR