BEGIN:VCALENDAR
VERSION:2.0
PRODID:-//Pfarre St. Hemma - ECPv4.9.7//NONSGML v1.0//EN
CALSCALE:GREGORIAN
METHOD:PUBLISH
X-WR-CALNAME:Pfarre St. Hemma
X-ORIGINAL-URL:https://www.sankthemma.at
X-WR-CALDESC:Veranstaltungen im Pfarre St. Hemma
BEGIN:VTIMEZONE
TZID:"Europe/Berlin"
BEGIN:DAYLIGHT
TZOFFSETFROM:+0100
TZOFFSETTO:+0200
TZNAME:CEST
DTSTART:20210328T010000
END:DAYLIGHT
BEGIN:STANDARD
TZOFFSETFROM:+0200
TZOFFSETTO:+0100
TZNAME:CET
DTSTART:20211031T010000
END:STANDARD
END:VTIMEZONE
BEGIN:VEVENT
DTSTART;TZID="Europe/Berlin":20211022T183000
DTEND;TZID="Europe/Berlin":20211022T191500
DTSTAMP:20260423T031643
CREATED:20211013T134507Z
LAST-MODIFIED:20211013T134507Z
UID:6957-1634927400-1634930100@www.sankthemma.at
SUMMARY:Wortgottesdienst mit eucharistischer Anbetung und sakr. Segen
DESCRIPTION:Orgelmeditation mit Michael Mauthner\, BEd \n
URL:https://www.sankthemma.at/events/wortgottesdienst-mit-eucharistischer-anbetung-und-sakr-segen/
CATEGORIES:Gottesdienst
END:VEVENT
END:VCALENDAR