BEGIN:VCALENDAR
VERSION:2.0
PRODID:-//Pfarre St. Hemma - ECPv4.9.7//NONSGML v1.0//EN
CALSCALE:GREGORIAN
METHOD:PUBLISH
X-WR-CALNAME:Pfarre St. Hemma
X-ORIGINAL-URL:https://www.sankthemma.at
X-WR-CALDESC:Veranstaltungen im Pfarre St. Hemma
BEGIN:VTIMEZONE
TZID:"Europe/Berlin"
BEGIN:DAYLIGHT
TZOFFSETFROM:+0100
TZOFFSETTO:+0200
TZNAME:CEST
DTSTART:20260329T010000
END:DAYLIGHT
BEGIN:STANDARD
TZOFFSETFROM:+0200
TZOFFSETTO:+0100
TZNAME:CET
DTSTART:20261025T010000
END:STANDARD
END:VTIMEZONE
BEGIN:VEVENT
DTSTART;TZID="Europe/Berlin":20260403T183000
DTEND;TZID="Europe/Berlin":20260403T194500
DTSTAMP:20260419T174226
CREATED:20260227T164057Z
LAST-MODIFIED:20260227T164143Z
UID:13033-1775241000-1775245500@www.sankthemma.at
SUMMARY:Tagesliturgie vom Leiden und Sterben Christi
DESCRIPTION:Bitte Blumen zur Kreuzverehrung mitbringen! \n
URL:https://www.sankthemma.at/events/tagesliturgie-vom-leiden-und-sterben-christi/
CATEGORIES:Gottesdienst
END:VEVENT
END:VCALENDAR