BEGIN:VCALENDAR
VERSION:2.0
PRODID:-//Pfarre St. Hemma - ECPv4.9.7//NONSGML v1.0//EN
CALSCALE:GREGORIAN
METHOD:PUBLISH
X-WR-CALNAME:Pfarre St. Hemma
X-ORIGINAL-URL:https://www.sankthemma.at
X-WR-CALDESC:Veranstaltungen im Pfarre St. Hemma
BEGIN:VTIMEZONE
TZID:"Europe/Berlin"
BEGIN:DAYLIGHT
TZOFFSETFROM:+0100
TZOFFSETTO:+0200
TZNAME:CEST
DTSTART:20260329T010000
END:DAYLIGHT
BEGIN:STANDARD
TZOFFSETFROM:+0200
TZOFFSETTO:+0100
TZNAME:CET
DTSTART:20261025T010000
END:STANDARD
END:VTIMEZONE
BEGIN:VEVENT
DTSTART;TZID="Europe/Berlin":20260128T171500
DTEND;TZID="Europe/Berlin":20260128T180000
DTSTAMP:20260421T102400
CREATED:20260107T162815Z
LAST-MODIFIED:20260107T163156Z
UID:12779-1769620500-1769623200@www.sankthemma.at
SUMMARY:Stille Anbetung
DESCRIPTION:
URL:https://www.sankthemma.at/events/stille-anbetung-181/
CATEGORIES:Gottesdienst
END:VEVENT
END:VCALENDAR