BEGIN:VCALENDAR
VERSION:2.0
PRODID:-//Pfarre St. Hemma - ECPv4.9.7//NONSGML v1.0//EN
CALSCALE:GREGORIAN
METHOD:PUBLISH
X-WR-CALNAME:Pfarre St. Hemma
X-ORIGINAL-URL:https://www.sankthemma.at
X-WR-CALDESC:Veranstaltungen im Pfarre St. Hemma
BEGIN:VTIMEZONE
TZID:"Europe/Berlin"
BEGIN:DAYLIGHT
TZOFFSETFROM:+0100
TZOFFSETTO:+0200
TZNAME:CEST
DTSTART:20260329T010000
END:DAYLIGHT
BEGIN:STANDARD
TZOFFSETFROM:+0200
TZOFFSETTO:+0100
TZNAME:CET
DTSTART:20261025T010000
END:STANDARD
END:VTIMEZONE
BEGIN:VEVENT
DTSTART;TZID="Europe/Berlin":20260122T180000
DTEND;TZID="Europe/Berlin":20260122T183000
DTSTAMP:20260419T185434
CREATED:20260107T163436Z
LAST-MODIFIED:20260107T163436Z
UID:12789-1769104800-1769106600@www.sankthemma.at
SUMMARY:Rosenkranz
DESCRIPTION:
URL:https://www.sankthemma.at/events/rosenkranz-683/
CATEGORIES:Gottesdienst
END:VEVENT
END:VCALENDAR