BEGIN:VCALENDAR
VERSION:2.0
PRODID:-//Pfarre St. Hemma - ECPv4.9.7//NONSGML v1.0//EN
CALSCALE:GREGORIAN
METHOD:PUBLISH
X-WR-CALNAME:Pfarre St. Hemma
X-ORIGINAL-URL:https://www.sankthemma.at
X-WR-CALDESC:Veranstaltungen im Pfarre St. Hemma
BEGIN:VTIMEZONE
TZID:"Europe/Berlin"
BEGIN:DAYLIGHT
TZOFFSETFROM:+0100
TZOFFSETTO:+0200
TZNAME:CEST
DTSTART:20240331T010000
END:DAYLIGHT
BEGIN:STANDARD
TZOFFSETFROM:+0200
TZOFFSETTO:+0100
TZNAME:CET
DTSTART:20241027T010000
END:STANDARD
END:VTIMEZONE
BEGIN:VEVENT
DTSTART;TZID="Europe/Berlin":20240222T180000
DTEND;TZID="Europe/Berlin":20240222T183000
DTSTAMP:20260422T102242
CREATED:20240216T162328Z
LAST-MODIFIED:20240216T162328Z
UID:10125-1708624800-1708626600@www.sankthemma.at
SUMMARY:Rosenkranz
DESCRIPTION:
URL:https://www.sankthemma.at/events/rosenkranz-523/
CATEGORIES:Gottesdienst
END:VEVENT
END:VCALENDAR