BEGIN:VCALENDAR
VERSION:2.0
PRODID:-//Pfarre St. Hemma - ECPv4.9.7//NONSGML v1.0//EN
CALSCALE:GREGORIAN
METHOD:PUBLISH
X-WR-CALNAME:Pfarre St. Hemma
X-ORIGINAL-URL:https://www.sankthemma.at
X-WR-CALDESC:Veranstaltungen im Pfarre St. Hemma
BEGIN:VTIMEZONE
TZID:"Europe/Berlin"
BEGIN:DAYLIGHT
TZOFFSETFROM:+0100
TZOFFSETTO:+0200
TZNAME:CEST
DTSTART:20210328T010000
END:DAYLIGHT
BEGIN:STANDARD
TZOFFSETFROM:+0200
TZOFFSETTO:+0100
TZNAME:CET
DTSTART:20211031T010000
END:STANDARD
END:VTIMEZONE
BEGIN:VEVENT
DTSTART;TZID="Europe/Berlin":20211216T180000
DTEND;TZID="Europe/Berlin":20211216T183000
DTSTAMP:20260422T073800
CREATED:20211130T174737Z
LAST-MODIFIED:20211130T174737Z
UID:7124-1639677600-1639679400@www.sankthemma.at
SUMMARY:Rosenkranz
DESCRIPTION:
URL:https://www.sankthemma.at/events/rosenkranz-350/
CATEGORIES:Gottesdienst
END:VEVENT
END:VCALENDAR