BEGIN:VCALENDAR
VERSION:2.0
PRODID:-//Pfarre St. Hemma - ECPv4.9.7//NONSGML v1.0//EN
CALSCALE:GREGORIAN
METHOD:PUBLISH
X-WR-CALNAME:Pfarre St. Hemma
X-ORIGINAL-URL:https://www.sankthemma.at
X-WR-CALDESC:Veranstaltungen im Pfarre St. Hemma
BEGIN:VTIMEZONE
TZID:"Europe/Berlin"
BEGIN:DAYLIGHT
TZOFFSETFROM:+0100
TZOFFSETTO:+0200
TZNAME:CEST
DTSTART:20230326T010000
END:DAYLIGHT
BEGIN:STANDARD
TZOFFSETFROM:+0200
TZOFFSETTO:+0100
TZNAME:CET
DTSTART:20231029T010000
END:STANDARD
END:VTIMEZONE
BEGIN:VEVENT
DTSTART;TZID="Europe/Berlin":20230408T090000
DTEND;TZID="Europe/Berlin":20230408T110000
DTSTAMP:20260420T230415
CREATED:20230316T152129Z
LAST-MODIFIED:20230316T152129Z
UID:8751-1680944400-1680951600@www.sankthemma.at
SUMMARY:Persönliches Gebet beim Hl. Grab
DESCRIPTION:
URL:https://www.sankthemma.at/events/persoenliches-gebet-beim-hl-grab/
CATEGORIES:Gottesdienst
END:VEVENT
END:VCALENDAR