BEGIN:VCALENDAR
VERSION:2.0
PRODID:-//Pfarre St. Hemma - ECPv4.9.7//NONSGML v1.0//EN
CALSCALE:GREGORIAN
METHOD:PUBLISH
X-WR-CALNAME:Pfarre St. Hemma
X-ORIGINAL-URL:https://www.sankthemma.at
X-WR-CALDESC:Veranstaltungen im Pfarre St. Hemma
BEGIN:VTIMEZONE
TZID:"Europe/Berlin"
BEGIN:DAYLIGHT
TZOFFSETFROM:+0100
TZOFFSETTO:+0200
TZNAME:CEST
DTSTART:20230326T010000
END:DAYLIGHT
BEGIN:STANDARD
TZOFFSETFROM:+0200
TZOFFSETTO:+0100
TZNAME:CET
DTSTART:20231029T010000
END:STANDARD
END:VTIMEZONE
BEGIN:VEVENT
DTSTART;TZID="Europe/Berlin":20230402T090000
DTEND;TZID="Europe/Berlin":20230402T103000
DTSTAMP:20260422T112251
CREATED:20230316T151232Z
LAST-MODIFIED:20230316T151232Z
UID:8737-1680426000-1680431400@www.sankthemma.at
SUMMARY:Palmprozession mit anschließender Messfeier
DESCRIPTION:Bei Schlechtwetter: Beginn 9:30 Uhr in der Pfarrkirche St. Hemma \n
URL:https://www.sankthemma.at/events/palmprozession-mit-anschliessender-messfeier/
CATEGORIES:Gottesdienst,Hl. Messe
END:VEVENT
END:VCALENDAR