BEGIN:VCALENDAR
VERSION:2.0
PRODID:-//Pfarre St. Hemma - ECPv4.9.7//NONSGML v1.0//EN
CALSCALE:GREGORIAN
METHOD:PUBLISH
X-WR-CALNAME:Pfarre St. Hemma
X-ORIGINAL-URL:https://www.sankthemma.at
X-WR-CALDESC:Veranstaltungen im Pfarre St. Hemma
BEGIN:VTIMEZONE
TZID:"Europe/Berlin"
BEGIN:DAYLIGHT
TZOFFSETFROM:+0100
TZOFFSETTO:+0200
TZNAME:CEST
DTSTART:20250330T010000
END:DAYLIGHT
BEGIN:STANDARD
TZOFFSETFROM:+0200
TZOFFSETTO:+0100
TZNAME:CET
DTSTART:20251026T010000
END:STANDARD
END:VTIMEZONE
BEGIN:VEVENT
DTSTART;TZID="Europe/Berlin":20251021T190000
DTEND;TZID="Europe/Berlin":20251021T203000
DTSTAMP:20260420T213640
CREATED:20251009T142207Z
LAST-MODIFIED:20251009T142207Z
UID:12540-1761073200-1761078600@www.sankthemma.at
SUMMARY:im Blick "Vortrag"
DESCRIPTION:Vom Nutzen und Nachteil des Konzils von Nizäa – Eine Rückschau nach 1700 Jahren auf das erste ökumenische Konzil im Jahr 325 n. Chr. mit Univ.-Prof. Dr. Uta Heil \n
URL:https://www.sankthemma.at/events/im-blick-vortrag-24/
CATEGORIES:Vortrag
END:VEVENT
END:VCALENDAR