BEGIN:VCALENDAR
VERSION:2.0
PRODID:-//Pfarre St. Hemma - ECPv4.9.7//NONSGML v1.0//EN
CALSCALE:GREGORIAN
METHOD:PUBLISH
X-WR-CALNAME:Pfarre St. Hemma
X-ORIGINAL-URL:https://www.sankthemma.at
X-WR-CALDESC:Veranstaltungen im Pfarre St. Hemma
BEGIN:VTIMEZONE
TZID:"Europe/Berlin"
BEGIN:DAYLIGHT
TZOFFSETFROM:+0100
TZOFFSETTO:+0200
TZNAME:CEST
DTSTART:20260329T010000
END:DAYLIGHT
BEGIN:STANDARD
TZOFFSETFROM:+0200
TZOFFSETTO:+0100
TZNAME:CET
DTSTART:20261025T010000
END:STANDARD
END:VTIMEZONE
BEGIN:VEVENT
DTSTART;TZID="Europe/Berlin":20260101T093000
DTEND;TZID="Europe/Berlin":20260101T103000
DTSTAMP:20260419T201847
CREATED:20251126T171916Z
LAST-MODIFIED:20251126T174008Z
UID:12723-1767259800-1767263400@www.sankthemma.at
SUMMARY:Festmesse
DESCRIPTION:
URL:https://www.sankthemma.at/events/festmesse-68/
CATEGORIES:Hl. Messe
END:VEVENT
END:VCALENDAR