BEGIN:VCALENDAR
VERSION:2.0
PRODID:-//Pfarre St. Hemma - ECPv4.9.7//NONSGML v1.0//EN
CALSCALE:GREGORIAN
METHOD:PUBLISH
X-WR-CALNAME:Pfarre St. Hemma
X-ORIGINAL-URL:https://www.sankthemma.at
X-WR-CALDESC:Veranstaltungen im Pfarre St. Hemma
BEGIN:VTIMEZONE
TZID:"Europe/Berlin"
BEGIN:DAYLIGHT
TZOFFSETFROM:+0100
TZOFFSETTO:+0200
TZNAME:CEST
DTSTART:20210328T010000
END:DAYLIGHT
BEGIN:STANDARD
TZOFFSETFROM:+0200
TZOFFSETTO:+0100
TZNAME:CET
DTSTART:20211031T010000
END:STANDARD
END:VTIMEZONE
BEGIN:VEVENT
DTSTART;TZID="Europe/Berlin":20211212T093000
DTEND;TZID="Europe/Berlin":20211212T103000
DTSTAMP:20260421T232935
CREATED:20211130T180303Z
LAST-MODIFIED:20211130T180303Z
UID:7162-1639301400-1639305000@www.sankthemma.at
SUMMARY:Familienmesse
DESCRIPTION:Heute Hemmakollekte! \n
URL:https://www.sankthemma.at/events/familienmesse-19/
CATEGORIES:Hl. Messe
END:VEVENT
END:VCALENDAR