BEGIN:VCALENDAR
VERSION:2.0
PRODID:-//Pfarre St. Hemma - ECPv4.9.7//NONSGML v1.0//EN
CALSCALE:GREGORIAN
METHOD:PUBLISH
X-WR-CALNAME:Pfarre St. Hemma
X-ORIGINAL-URL:https://www.sankthemma.at
X-WR-CALDESC:Veranstaltungen im Pfarre St. Hemma
BEGIN:VTIMEZONE
TZID:"Europe/Berlin"
BEGIN:DAYLIGHT
TZOFFSETFROM:+0100
TZOFFSETTO:+0200
TZNAME:CEST
DTSTART:20190331T010000
END:DAYLIGHT
BEGIN:STANDARD
TZOFFSETFROM:+0200
TZOFFSETTO:+0100
TZNAME:CET
DTSTART:20191027T010000
END:STANDARD
END:VTIMEZONE
BEGIN:VEVENT
DTSTART;TZID="Europe/Berlin":20190306T183000
DTEND;TZID="Europe/Berlin":20190306T193000
DTSTAMP:20260424T192419
CREATED:20190222T162402Z
LAST-MODIFIED:20190222T162637Z
UID:4067-1551897000-1551900600@www.sankthemma.at
SUMMARY:Aschermittwochs- messe
DESCRIPTION:Mit Austeilung des Aschenkreuzes. \n
URL:https://www.sankthemma.at/events/aschermittwochsmesse/
CATEGORIES:Hl. Messe
END:VEVENT
END:VCALENDAR