BEGIN:VCALENDAR
VERSION:2.0
PRODID:-//Pfarre St. Hemma - ECPv4.9.7//NONSGML v1.0//EN
CALSCALE:GREGORIAN
METHOD:PUBLISH
X-WR-CALNAME:Pfarre St. Hemma
X-ORIGINAL-URL:https://www.sankthemma.at
X-WR-CALDESC:Veranstaltungen im Pfarre St. Hemma
BEGIN:VTIMEZONE
TZID:"Europe/Berlin"
BEGIN:DAYLIGHT
TZOFFSETFROM:+0100
TZOFFSETTO:+0200
TZNAME:CEST
DTSTART:20240331T010000
END:DAYLIGHT
BEGIN:STANDARD
TZOFFSETFROM:+0200
TZOFFSETTO:+0100
TZNAME:CET
DTSTART:20241027T010000
END:STANDARD
END:VTIMEZONE
BEGIN:VEVENT
DTSTART;VALUE=DATE:20240218
DTEND;VALUE=DATE:20240219
DTSTAMP:20260420T131212
CREATED:20240105T152437Z
LAST-MODIFIED:20240105T152437Z
UID:9923-1708214400-1708300799@www.sankthemma.at
SUMMARY:1. Sonntag derFastenzeit
DESCRIPTION:
URL:https://www.sankthemma.at/events/1-sonntag-derfastenzeit/
END:VEVENT
END:VCALENDAR